BEGIN:VCALENDAR
PRODID:-//AT Content Types//AT Event//EN
VERSION:1.0
BEGIN:VEVENT
DTSTART:20100309T140000Z
DTEND:20100309T153000Z
DCREATED:20110903T193544Z
UID:ATEvent-b11604881f9943abc6b53c4ddb44d99a
SEQUENCE:0
LAST-MODIFIED:20110925T151215Z
SUMMARY:EMS committee meeting
LOCATION:Perkin's Restaurant\, State College\, PA
PRIORITY:3
TRANSP:0
END:VEVENT
END:VCALENDAR
