BEGIN:VCALENDAR
PRODID:-//AT Content Types//AT Event//EN
VERSION:1.0
BEGIN:VEVENT
DTSTART:20110510T040000Z
DTEND:20110510T040000Z
DCREATED:20110903T192758Z
UID:ATEvent-e30be6d9be903d54c065ff0d78c6b5ab
SEQUENCE:0
LAST-MODIFIED:20110925T151215Z
SUMMARY:EMS committee meeting
PRIORITY:3
TRANSP:0
END:VEVENT
END:VCALENDAR
